BEGIN:VCALENDAR
VERSION:2.0
PRODID:-//Skipjack Cove Marina - ECPv6.15.20//NONSGML v1.0//EN
CALSCALE:GREGORIAN
METHOD:PUBLISH
X-WR-CALNAME:Skipjack Cove Marina
X-ORIGINAL-URL:https://skipjackcovemd.com
X-WR-CALDESC:Events for Skipjack Cove Marina
REFRESH-INTERVAL;VALUE=DURATION:PT1H
X-Robots-Tag:noindex
X-PUBLISHED-TTL:PT1H
BEGIN:VTIMEZONE
TZID:America/New_York
BEGIN:DAYLIGHT
TZOFFSETFROM:-0500
TZOFFSETTO:-0400
TZNAME:EDT
DTSTART:20250309T070000
END:DAYLIGHT
BEGIN:STANDARD
TZOFFSETFROM:-0400
TZOFFSETTO:-0500
TZNAME:EST
DTSTART:20251102T060000
END:STANDARD
BEGIN:DAYLIGHT
TZOFFSETFROM:-0500
TZOFFSETTO:-0400
TZNAME:EDT
DTSTART:20260308T070000
END:DAYLIGHT
BEGIN:STANDARD
TZOFFSETFROM:-0400
TZOFFSETTO:-0500
TZNAME:EST
DTSTART:20261101T060000
END:STANDARD
BEGIN:DAYLIGHT
TZOFFSETFROM:-0500
TZOFFSETTO:-0400
TZNAME:EDT
DTSTART:20270314T070000
END:DAYLIGHT
BEGIN:STANDARD
TZOFFSETFROM:-0400
TZOFFSETTO:-0500
TZNAME:EST
DTSTART:20271107T060000
END:STANDARD
END:VTIMEZONE
BEGIN:VEVENT
DTSTART;TZID=America/New_York:20260321T100000
DTEND;TZID=America/New_York:20260321T140000
DTSTAMP:20260422T053621
CREATED:20260209T180350Z
LAST-MODIFIED:20260211T181657Z
UID:2756-1774087200-1774101600@skipjackcovemd.com
SUMMARY:Skipjack Cove Open House
DESCRIPTION:Join us for a fun and relaxed Open House. \nCome meet the team\, explore the property with guided tours\, and get a feel for life at Skipjack Cove. Enjoy a complimentary lunch\, grab a door gift\, and stick around for yard games and good vibes by the water. Whether you’re a longtime boater or just curious about what Skipjack Cove has to offer\, we’d love to welcome you aboard. Bring a friend and make a day of it!
URL:https://skipjackcovemd.com/event/skipjack-cove-open-house/
LOCATION:Skipjack Cove Marina\, 150 Skipjack Rd\, Georgetown\, MD\, United States
ATTACH;FMTTYPE=image/webp:https://skipjackcovemd.com/wp-content/uploads/2026/02/SkipjackCove_OpenHouse_Event-1.webp
END:VEVENT
END:VCALENDAR