BEGIN:VCALENDAR
VERSION:2.0
PRODID:-//Skipjack Cove Marina - ECPv6.15.20//NONSGML v1.0//EN
CALSCALE:GREGORIAN
METHOD:PUBLISH
X-WR-CALNAME:Skipjack Cove Marina
X-ORIGINAL-URL:https://skipjackcovemd.com
X-WR-CALDESC:Events for Skipjack Cove Marina
REFRESH-INTERVAL;VALUE=DURATION:PT1H
X-Robots-Tag:noindex
X-PUBLISHED-TTL:PT1H
BEGIN:VTIMEZONE
TZID:America/New_York
BEGIN:DAYLIGHT
TZOFFSETFROM:-0500
TZOFFSETTO:-0400
TZNAME:EDT
DTSTART:20250309T070000
END:DAYLIGHT
BEGIN:STANDARD
TZOFFSETFROM:-0400
TZOFFSETTO:-0500
TZNAME:EST
DTSTART:20251102T060000
END:STANDARD
BEGIN:DAYLIGHT
TZOFFSETFROM:-0500
TZOFFSETTO:-0400
TZNAME:EDT
DTSTART:20260308T070000
END:DAYLIGHT
BEGIN:STANDARD
TZOFFSETFROM:-0400
TZOFFSETTO:-0500
TZNAME:EST
DTSTART:20261101T060000
END:STANDARD
BEGIN:DAYLIGHT
TZOFFSETFROM:-0500
TZOFFSETTO:-0400
TZNAME:EDT
DTSTART:20270314T070000
END:DAYLIGHT
BEGIN:STANDARD
TZOFFSETFROM:-0400
TZOFFSETTO:-0500
TZNAME:EST
DTSTART:20271107T060000
END:STANDARD
END:VTIMEZONE
BEGIN:VEVENT
DTSTART;TZID=America/New_York:20260620T120000
DTEND;TZID=America/New_York:20260620T180000
DTSTAMP:20260422T041459
CREATED:20260209T182935Z
LAST-MODIFIED:20260211T181821Z
UID:2763-1781956800-1781978400@skipjackcovemd.com
SUMMARY:Slipholder Appreciation Day
DESCRIPTION:We’re celebrating our slip-holders with a full day of food\, fun\, and family activities! This day is all about you\, SJC community! Enjoy a true Chesapeake Crab Feast\, Yard Games\, Children’s Activities\, “Dunk-A-Dad” Dunk Tank (Father’s Day weekend fun!)\, and $0.30 OFF per gallon of fuel \n*Slip holders only\, one day only \n\n\n	Related
URL:https://skipjackcovemd.com/event/slipholder-appreciation-day/
LOCATION:Skipjack Cove Marina\, 150 Skipjack Rd\, Georgetown\, MD\, United States
ATTACH;FMTTYPE=image/webp:https://skipjackcovemd.com/wp-content/uploads/2026/02/SkipjackCove_SlipholderAppreciationDay_Event-1.webp
END:VEVENT
END:VCALENDAR