BEGIN:VCALENDAR
VERSION:2.0
PRODID:-//Skipjack Cove Marina - ECPv6.15.20//NONSGML v1.0//EN
CALSCALE:GREGORIAN
METHOD:PUBLISH
X-WR-CALNAME:Skipjack Cove Marina
X-ORIGINAL-URL:https://skipjackcovemd.com
X-WR-CALDESC:Events for Skipjack Cove Marina
REFRESH-INTERVAL;VALUE=DURATION:PT1H
X-Robots-Tag:noindex
X-PUBLISHED-TTL:PT1H
BEGIN:VTIMEZONE
TZID:America/New_York
BEGIN:DAYLIGHT
TZOFFSETFROM:-0500
TZOFFSETTO:-0400
TZNAME:EDT
DTSTART:20250309T070000
END:DAYLIGHT
BEGIN:STANDARD
TZOFFSETFROM:-0400
TZOFFSETTO:-0500
TZNAME:EST
DTSTART:20251102T060000
END:STANDARD
BEGIN:DAYLIGHT
TZOFFSETFROM:-0500
TZOFFSETTO:-0400
TZNAME:EDT
DTSTART:20260308T070000
END:DAYLIGHT
BEGIN:STANDARD
TZOFFSETFROM:-0400
TZOFFSETTO:-0500
TZNAME:EST
DTSTART:20261101T060000
END:STANDARD
BEGIN:DAYLIGHT
TZOFFSETFROM:-0500
TZOFFSETTO:-0400
TZNAME:EDT
DTSTART:20270314T070000
END:DAYLIGHT
BEGIN:STANDARD
TZOFFSETFROM:-0400
TZOFFSETTO:-0500
TZNAME:EST
DTSTART:20271107T060000
END:STANDARD
END:VTIMEZONE
BEGIN:VEVENT
DTSTART;TZID=America/New_York:20260524T070000
DTEND;TZID=America/New_York:20260524T100000
DTSTAMP:20260420T132620
CREATED:20260209T182807Z
LAST-MODIFIED:20260414T163507Z
UID:2760-1779606000-1779616800@skipjackcovemd.com
SUMMARY:Memorial Day Weekend Breakfast
DESCRIPTION:Celebrate the holiday weekend on us\, with a complimentary breakfast in the Captain’s Lounge for all those docking with us! \nJoin us for a relaxed morning and a delicious start to Memorial Day weekend. \n\n\n	Related
URL:https://skipjackcovemd.com/event/memorial-day-weekend-breakfast/
LOCATION:Skipjack Cove Marina\, 150 Skipjack Rd\, Georgetown\, MD\, United States
ATTACH;FMTTYPE=image/webp:https://skipjackcovemd.com/wp-content/uploads/2026/02/SkipjackCove_MemorialDayBreakfast_Event-1.webp
END:VEVENT
END:VCALENDAR